BEGIN:VCALENDAR
VERSION:2.0
PRODID:-//Dampfsäg Sontheim - ECPv6.15.20//NONSGML v1.0//EN
CALSCALE:GREGORIAN
METHOD:PUBLISH
X-WR-CALNAME:Dampfsäg Sontheim
X-ORIGINAL-URL:https://www.dampfsaeg.de
X-WR-CALDESC:Veranstaltungen für Dampfsäg Sontheim
REFRESH-INTERVAL;VALUE=DURATION:PT1H
X-Robots-Tag:noindex
X-PUBLISHED-TTL:PT1H
BEGIN:VTIMEZONE
TZID:Europe/Berlin
BEGIN:DAYLIGHT
TZOFFSETFROM:+0100
TZOFFSETTO:+0200
TZNAME:CEST
DTSTART:20230326T010000
END:DAYLIGHT
BEGIN:STANDARD
TZOFFSETFROM:+0200
TZOFFSETTO:+0100
TZNAME:CET
DTSTART:20231029T010000
END:STANDARD
BEGIN:DAYLIGHT
TZOFFSETFROM:+0100
TZOFFSETTO:+0200
TZNAME:CEST
DTSTART:20240331T010000
END:DAYLIGHT
BEGIN:STANDARD
TZOFFSETFROM:+0200
TZOFFSETTO:+0100
TZNAME:CET
DTSTART:20241027T010000
END:STANDARD
BEGIN:DAYLIGHT
TZOFFSETFROM:+0100
TZOFFSETTO:+0200
TZNAME:CEST
DTSTART:20250330T010000
END:DAYLIGHT
BEGIN:STANDARD
TZOFFSETFROM:+0200
TZOFFSETTO:+0100
TZNAME:CET
DTSTART:20251026T010000
END:STANDARD
END:VTIMEZONE
BEGIN:VEVENT
DTSTART;TZID=Europe/Berlin:20240924T200000
DTEND;TZID=Europe/Berlin:20240924T220000
DTSTAMP:20260421T125644
CREATED:20240902T145336Z
LAST-MODIFIED:20240902T145340Z
UID:1419-1727208000-1727215200@www.dampfsaeg.de
SUMMARY:Rose - Eine unvergessliche Reise nach Paris
DESCRIPTION:In Zusammenarbeit mit DaCapo e.V. Gemeinnütziger Verein zur Förderung psychisch kranker Menschen. \n\n  \nInger sorgt für eine unvergessliche Busreise nach Paris\, denn Inger ist an Schizophrenie erkrankt. Nach außen zeigt sich das vor allem durch eine sehr direkte Art und die kommt nicht bei allen Mitreisenden im Bus sonderlich gut an. Inger werden Vorurteile an den Kopf geworfen\, niemand scheint Verständnis für sie und ihr Verhalten zu haben. Ehe sie sich versehen\, geraten auch noch Ingers Schwester Ellen und deren Ehemann Vagn zwischen die Fronten. Dabei liegt es eigentlich auf der Hand\, dass so „normal“ niemand an Board ist. \nDänemark 2022\, ab 12 Jahren\, 106 MinutenRegie: Niels Arden OplevBesetzung: Sofie Gråbøl\, Lene Maria Christensen\, Anders W. Berthelsen \nFilmbeginn: 20:00 UhrEinlass & Gastronomie: 18:30 UhrEintritt: 7\,00 €\, erm. 6\,00 € \n			\n				\n				\n				\n				\n				  Sie sehen gerade einen Platzhalterinhalt von Standard. Um auf den eigentlichen Inhalt zuzugreifen\, klicken Sie auf die Schaltfläche unten. Bitte beachten Sie\, dass dabei Daten an Drittanbieter weitergegeben werden.   Inhalt entsperren Erforderlichen Service akzeptieren und Inhalte entsperren  Mehr Informationen \n				\n			\n			\n				\n				\n				\n				\n			\n				\n				\n				\n				\n				\n				\n				Karten für diesen Film kaufen
URL:https://www.dampfsaeg.de/event/rose-eine-unvergessliche-reise-nach-paris/
LOCATION:Dampfsäg\, Westerheimer Str. 10\, Sontheim\, Bayern\, 87776\, Deutschland
CATEGORIES:Kino
ATTACH;FMTTYPE=image/jpeg:https://www.dampfsaeg.de/wp-content/uploads/2024/09/rose-eine-unvergessliche-reise-nach-paris-poster-ee967.jpg
ORGANIZER;CN="Dampfs%C3%A4g Sontheim":MAILTO:info@dampfsaeg.de
END:VEVENT
END:VCALENDAR