BEGIN:VCALENDAR
VERSION:2.0
PRODID:-//Dampfsäg Sontheim - ECPv6.15.20//NONSGML v1.0//EN
CALSCALE:GREGORIAN
METHOD:PUBLISH
X-WR-CALNAME:Dampfsäg Sontheim
X-ORIGINAL-URL:https://www.dampfsaeg.de
X-WR-CALDESC:Veranstaltungen für Dampfsäg Sontheim
REFRESH-INTERVAL;VALUE=DURATION:PT1H
X-Robots-Tag:noindex
X-PUBLISHED-TTL:PT1H
BEGIN:VTIMEZONE
TZID:Europe/Berlin
BEGIN:DAYLIGHT
TZOFFSETFROM:+0100
TZOFFSETTO:+0200
TZNAME:CEST
DTSTART:20230326T010000
END:DAYLIGHT
BEGIN:STANDARD
TZOFFSETFROM:+0200
TZOFFSETTO:+0100
TZNAME:CET
DTSTART:20231029T010000
END:STANDARD
BEGIN:DAYLIGHT
TZOFFSETFROM:+0100
TZOFFSETTO:+0200
TZNAME:CEST
DTSTART:20240331T010000
END:DAYLIGHT
BEGIN:STANDARD
TZOFFSETFROM:+0200
TZOFFSETTO:+0100
TZNAME:CET
DTSTART:20241027T010000
END:STANDARD
BEGIN:DAYLIGHT
TZOFFSETFROM:+0100
TZOFFSETTO:+0200
TZNAME:CEST
DTSTART:20250330T010000
END:DAYLIGHT
BEGIN:STANDARD
TZOFFSETFROM:+0200
TZOFFSETTO:+0100
TZNAME:CET
DTSTART:20251026T010000
END:STANDARD
END:VTIMEZONE
BEGIN:VEVENT
DTSTART;TZID=Europe/Berlin:20241008T200000
DTEND;TZID=Europe/Berlin:20241008T220000
DTSTAMP:20260421T102341
CREATED:20240902T150604Z
LAST-MODIFIED:20240916T084917Z
UID:1427-1728417600-1728424800@www.dampfsaeg.de
SUMMARY:Beyond Tradition - Kraft der Naturstimmen
DESCRIPTION:Drei junge SängerInnen aus der Schweiz\, Norwegen und Georgien hinterfragen ihre Kultur und stellen sich der Herausforderung\, ihre Wurzeln mit dem modernen Leben zu verknüpfen. Was ist Tradition? Für den Schweizer Naturjodler Meinrad Koch ist es ein Balanceakt zwischen altbewährten Ritualen und mutiger Innovation. Er tauscht sich mit der norwegischen Joikerin Marja Mortensson über ihre jodelartige und ursprünglich schamanistische Gesangskultur aus. In Georgien trifft Meinrad die Musikstudentin Ninuca Kakhiani. Seit ihrer Kindheit singt sie im international bekannten Jugendchor Tutarchela. Sie ist nicht nur mit den traditionellen Gesängen und dem georgischen Jodeln groß geworden\, sondern beschäftigte sich auch mit Musikkulturen jenseits ihrer eigenen. \n\nAnschließendes Filmgespräch mit Regisseurin Rahel von Gunten und Thomas Rickenmann. \n\nSchweiz 2023\, ab 6 Jahren\, 100 MinutenDokumentarfilm mit dt. UntertitelnRegie: Rahel von Gunten\, Lea Hagmann \nFilmbeginn: 20:00 UhrEinlass & Gastronomie: 18:30 UhrEintritt: 7\,00 €\, erm. 6\,00 € \n			\n				\n				\n				\n				\n				  Sie sehen gerade einen Platzhalterinhalt von Standard. Um auf den eigentlichen Inhalt zuzugreifen\, klicken Sie auf die Schaltfläche unten. Bitte beachten Sie\, dass dabei Daten an Drittanbieter weitergegeben werden.   Inhalt entsperren Erforderlichen Service akzeptieren und Inhalte entsperren  Mehr Informationen \n				\n			\n				Karten für diesen Film kaufen
URL:https://www.dampfsaeg.de/event/beyond-tradition-kraft-der-naturstimmen/
LOCATION:Dampfsäg\, Westerheimer Str. 10\, Sontheim\, Bayern\, 87776\, Deutschland
CATEGORIES:Kino
ATTACH;FMTTYPE=image/webp:https://www.dampfsaeg.de/wp-content/uploads/2024/09/Beyond-Tradition.webp
ORGANIZER;CN="Dampfs%C3%A4g Sontheim":MAILTO:info@dampfsaeg.de
END:VEVENT
END:VCALENDAR