BEGIN:VCALENDAR
VERSION:2.0
PRODID:-//Dampfsäg Sontheim - ECPv6.15.18//NONSGML v1.0//EN
CALSCALE:GREGORIAN
METHOD:PUBLISH
X-WR-CALNAME:Dampfsäg Sontheim
X-ORIGINAL-URL:https://www.dampfsaeg.de
X-WR-CALDESC:Veranstaltungen für Dampfsäg Sontheim
REFRESH-INTERVAL;VALUE=DURATION:PT1H
X-Robots-Tag:noindex
X-PUBLISHED-TTL:PT1H
BEGIN:VTIMEZONE
TZID:Europe/Berlin
BEGIN:DAYLIGHT
TZOFFSETFROM:+0100
TZOFFSETTO:+0200
TZNAME:CEST
DTSTART:20230326T010000
END:DAYLIGHT
BEGIN:STANDARD
TZOFFSETFROM:+0200
TZOFFSETTO:+0100
TZNAME:CET
DTSTART:20231029T010000
END:STANDARD
BEGIN:DAYLIGHT
TZOFFSETFROM:+0100
TZOFFSETTO:+0200
TZNAME:CEST
DTSTART:20240331T010000
END:DAYLIGHT
BEGIN:STANDARD
TZOFFSETFROM:+0200
TZOFFSETTO:+0100
TZNAME:CET
DTSTART:20241027T010000
END:STANDARD
BEGIN:DAYLIGHT
TZOFFSETFROM:+0100
TZOFFSETTO:+0200
TZNAME:CEST
DTSTART:20250330T010000
END:DAYLIGHT
BEGIN:STANDARD
TZOFFSETFROM:+0200
TZOFFSETTO:+0100
TZNAME:CET
DTSTART:20251026T010000
END:STANDARD
END:VTIMEZONE
BEGIN:VEVENT
DTSTART;VALUE=DATE:20241010
DTEND;VALUE=DATE:20241019
DTSTAMP:20260419T145133
CREATED:20240902T174357Z
LAST-MODIFIED:20240902T174600Z
UID:1499-1728518400-1729295999@www.dampfsaeg.de
SUMMARY:Ausstellung "Himmel im Holz"
DESCRIPTION:Im Rahmen der Glaubenstage der Pfarreiengemeinschaft Erkheim-Günztal \n  \nAm Donnerstag\, 10.10.2024 wird in der Kistenmacherei der Dampfsäg in Sontheim um 19 Uhr die Ausstellung „Himmel im Holz“ des Künstlers Josef Rampp eröffnet. \nDiese wird während der Glaubenstage vom 11.10.2024 – 18.10.2024 werktags von 16-20 Uhr und am Wochenende von 14-18 Uhr zu sehen sein. \nDer Künstler\, der aus Markt Rettenbach stammt\, ist gelernter Automechaniker\, der sich das Schnitzen zum Teil selbst beigebracht hat\, aber auch seit einigen Jahren Kurse an einer Bildhauerschule in Tirol besucht.\nSein Lieblingsmotiv sind Engel\, die er in den unterschiedlichsten Holzarten und Holzstücken entdeckt\, wie z.B. in alten Kirchenbänken oder Findlingen. Aber auch Krippen und Christusfiguren gehören u.a. zu seinem Repertoire. \nDer Künstler wird zu den Öffnungszeiten der Ausstellung anwesend sein. \n11.10.2024 – 18.10.2024 \nWerktags von 16-20 Uhr und am Wochenende von 14-18 Uhr.
URL:https://www.dampfsaeg.de/event/ausstellung-himmel-im-holz/
LOCATION:Dampfsäg\, Westerheimer Str. 10\, Sontheim\, Bayern\, 87776\, Deutschland
CATEGORIES:kein Vorverkauf
ATTACH;FMTTYPE=image/jpeg:https://www.dampfsaeg.de/wp-content/uploads/2024/09/20230919_111140-rotated.jpg
END:VEVENT
BEGIN:VEVENT
DTSTART;TZID=Europe/Berlin:20241015T150000
DTEND;TZID=Europe/Berlin:20241015T170000
DTSTAMP:20260419T145134
CREATED:20240902T153131Z
LAST-MODIFIED:20240925T083426Z
UID:1432-1729004400-1729011600@www.dampfsaeg.de
SUMMARY:Sieger sein
DESCRIPTION:Kinderkino im Rahmen der Glaubenstage der Pfarreiengemeinschaft Erkheim-Günztal. \n\n  \nMit ihrer kurdischen Familie aus Syrien geflüchtet\, sitzt Mona nun als neue Schülerin in einer chaotischen Schule im Berliner Wedding.Die Situation ist verheerend: Die Lehrer sind überlastet und mit ihren Nerven am Ende\, die Schülerinnen und Schüler sind frustriert.Monas größtes Problem: Sie spricht kaum Deutsch. Dafür hat sie einen Trumpf in der Hand: Sie kann fantastisch Fußball spielen. Bereits in ihrer Heimat hat sie mit ihren Brüdern auf den Straßen Fußball gespielt. Herr Che ist einer der wenigen engagierten Lehrer und erkennt Monas Talent. Er nimmt sie in die Mädchenmannschaft auf undfür das junge Mädchen heißt es nun vor allem durchhalten\, denn das Zusammen-spiel mit den anderen Mädchen ist gar nicht so leicht.Jede von ihnen will als Einzelkämpferin auf dem Platz punkten. Doch Fußball funktioniert nur im Team. Die Mädchenmannschaft muss sich zusammenraufen und mit vereintenKräften können sie es vielleicht schaffen\, Siegerinnen zu werden. \nDeutschland 2024\, ab 6 Jahren\, 119 MinutenRegie: Soleen YusefBesetzung: Dileyla Agirman\, Andreas Döhler\, Sherine Ciara Merai \nFilmbeginn: 15:00 UhrEinlass & Gastronomie: 14:00 UhrEintritt: 6\,00 € \n			\n				\n				\n				\n				\n				  Sie sehen gerade einen Platzhalterinhalt von Standard. Um auf den eigentlichen Inhalt zuzugreifen\, klicken Sie auf die Schaltfläche unten. Bitte beachten Sie\, dass dabei Daten an Drittanbieter weitergegeben werden.   Inhalt entsperren Erforderlichen Service akzeptieren und Inhalte entsperren  Mehr Informationen \n				\n			\n			\n				\n				\n				\n				\n			\n				\n				\n				\n				\n				\n				\n				Karten für diesen Film kaufen
URL:https://www.dampfsaeg.de/event/sieger-sein/
LOCATION:Dampfsäg\, Westerheimer Str. 10\, Sontheim\, Bayern\, 87776\, Deutschland
CATEGORIES:Kino
ATTACH;FMTTYPE=image/webp:https://www.dampfsaeg.de/wp-content/uploads/2024/09/Sieger-sein.webp
ORGANIZER;CN="Dampfs%C3%A4g Sontheim":MAILTO:info@dampfsaeg.de
END:VEVENT
END:VCALENDAR