BEGIN:VCALENDAR
VERSION:2.0
PRODID:-//Dampfsäg Sontheim - ECPv6.15.20//NONSGML v1.0//EN
CALSCALE:GREGORIAN
METHOD:PUBLISH
X-WR-CALNAME:Dampfsäg Sontheim
X-ORIGINAL-URL:https://www.dampfsaeg.de
X-WR-CALDESC:Veranstaltungen für Dampfsäg Sontheim
REFRESH-INTERVAL;VALUE=DURATION:PT1H
X-Robots-Tag:noindex
X-PUBLISHED-TTL:PT1H
BEGIN:VTIMEZONE
TZID:Europe/Berlin
BEGIN:DAYLIGHT
TZOFFSETFROM:+0100
TZOFFSETTO:+0200
TZNAME:CEST
DTSTART:20230326T010000
END:DAYLIGHT
BEGIN:STANDARD
TZOFFSETFROM:+0200
TZOFFSETTO:+0100
TZNAME:CET
DTSTART:20231029T010000
END:STANDARD
BEGIN:DAYLIGHT
TZOFFSETFROM:+0100
TZOFFSETTO:+0200
TZNAME:CEST
DTSTART:20240331T010000
END:DAYLIGHT
BEGIN:STANDARD
TZOFFSETFROM:+0200
TZOFFSETTO:+0100
TZNAME:CET
DTSTART:20241027T010000
END:STANDARD
BEGIN:DAYLIGHT
TZOFFSETFROM:+0100
TZOFFSETTO:+0200
TZNAME:CEST
DTSTART:20250330T010000
END:DAYLIGHT
BEGIN:STANDARD
TZOFFSETFROM:+0200
TZOFFSETTO:+0100
TZNAME:CET
DTSTART:20251026T010000
END:STANDARD
END:VTIMEZONE
BEGIN:VEVENT
DTSTART;TZID=Europe/Berlin:20241022T200000
DTEND;TZID=Europe/Berlin:20241022T220000
DTSTAMP:20260421T104115
CREATED:20240902T155301Z
LAST-MODIFIED:20240902T155305Z
UID:1441-1729627200-1729634400@www.dampfsaeg.de
SUMMARY:Zwei zu eins
DESCRIPTION:Deutsche Komödie über ein Trio\, das kurz nach der Wende Millionen an gefundenen Ost-Mark in den Umlauf bringt. \nNach dem Fall der Mauer galt der 1. Juli 1990 als das sogenannte „Währungssilvester“\, es war der Stichtag\, an dem die Ostmark als Bargeld für wertlos erachtet wurde. \nMaren (Sandra Hüller)\, Robert (Max Riemelt) und Volker (Ronald Zehrfeld) sind seit ihrer Kindheit beste Freunde und leben in Halberstadt. Eines Tages im Juli 1990 entdecken sie zufällig\, dass in einem alten Schacht in ihrer Nähe die Millionen der ehemaligen DDR eingelagert wurden. Sie beschließen\, das Geld zu stehlen und planen akribisch jeden Schritt\, um ihr Vorhaben in die Tat umzusetzen. Aber je näher sie ihrem Ziel kommen\, desto mehr müssen sie sich fragen\, ob es das Risiko wert ist und welche Konsequenzen ihr Handeln haben wird. \nDeutschland 2024\, ab 6 Jahren\, 115 MinutenRegie: Natja BrunckhorstBesetzung: Sandra Hüller\, Max Riemelt\, Ronald Zehrfeldn \nFilmbeginn: 20:00 UhrEinlass & Gastronomie: 18:30 UhrEintritt: 7\,00 €\, erm. 6\,00 € \n			\n				\n				\n				\n				\n				  Sie sehen gerade einen Platzhalterinhalt von Standard. Um auf den eigentlichen Inhalt zuzugreifen\, klicken Sie auf die Schaltfläche unten. Bitte beachten Sie\, dass dabei Daten an Drittanbieter weitergegeben werden.   Inhalt entsperren Erforderlichen Service akzeptieren und Inhalte entsperren  Mehr Informationen \n				\n			\n			\n				\n				\n				\n				\n			\n				\n				\n				\n				\n				\n				\n				Karten für diesen Film kaufen
URL:https://www.dampfsaeg.de/event/zwei-zu-eins/
LOCATION:Dampfsäg\, Westerheimer Str. 10\, Sontheim\, Bayern\, 87776\, Deutschland
CATEGORIES:Kino
ATTACH;FMTTYPE=image/jpeg:https://www.dampfsaeg.de/wp-content/uploads/2024/09/zwei-zu-eins.jpg
ORGANIZER;CN="Dampfs%C3%A4g Sontheim":MAILTO:info@dampfsaeg.de
END:VEVENT
END:VCALENDAR