BEGIN:VCALENDAR
VERSION:2.0
PRODID:-//Dampfsäg Sontheim - ECPv6.15.20//NONSGML v1.0//EN
CALSCALE:GREGORIAN
METHOD:PUBLISH
X-ORIGINAL-URL:https://www.dampfsaeg.de
X-WR-CALDESC:Veranstaltungen für Dampfsäg Sontheim
REFRESH-INTERVAL;VALUE=DURATION:PT1H
X-Robots-Tag:noindex
X-PUBLISHED-TTL:PT1H
BEGIN:VTIMEZONE
TZID:Europe/Berlin
BEGIN:DAYLIGHT
TZOFFSETFROM:+0100
TZOFFSETTO:+0200
TZNAME:CEST
DTSTART:20230326T010000
END:DAYLIGHT
BEGIN:STANDARD
TZOFFSETFROM:+0200
TZOFFSETTO:+0100
TZNAME:CET
DTSTART:20231029T010000
END:STANDARD
BEGIN:DAYLIGHT
TZOFFSETFROM:+0100
TZOFFSETTO:+0200
TZNAME:CEST
DTSTART:20240331T010000
END:DAYLIGHT
BEGIN:STANDARD
TZOFFSETFROM:+0200
TZOFFSETTO:+0100
TZNAME:CET
DTSTART:20241027T010000
END:STANDARD
BEGIN:DAYLIGHT
TZOFFSETFROM:+0100
TZOFFSETTO:+0200
TZNAME:CEST
DTSTART:20250330T010000
END:DAYLIGHT
BEGIN:STANDARD
TZOFFSETFROM:+0200
TZOFFSETTO:+0100
TZNAME:CET
DTSTART:20251026T010000
END:STANDARD
END:VTIMEZONE
BEGIN:VEVENT
DTSTART;TZID=Europe/Berlin:20241115T200000
DTEND;TZID=Europe/Berlin:20241115T230000
DTSTAMP:20260423T120157
CREATED:20240902T183617Z
LAST-MODIFIED:20240902T183621Z
UID:1536-1731700800-1731711600@www.dampfsaeg.de
SUMMARY:Nostalgieball - Hürbener Ballorchester
DESCRIPTION:Hereinspaziert – mit Zylinder und Abendkleid\, mit Plüsch und Plunder zum nostalgischen Ballvergnügen in der Dampfsäg. \nWie zu Kaiserin Sissis Zeiten erklingen Walzer\, Polka\, Galopp\, Mazurka\, Rheinländer und die Fledermaus-Quadrille.Das Hürbener Ballorchester wird der ewig jungen Musik von Johann Strauß oder Josef Lanner den unvergleichlichen Charme der guten alten Zeit verleihen. Aber auch die Modetänze und Evergreens der goldenen Zwanziger Jahre\, wie Tango\, Foxtrott\, Rumba und Cha Cha Cha werden aufgelegt.Die 20 Musikerinnen und Musiker\, unter Dirigent und Conferencier Uwe Rachuth\, spielen zu Modetänzen aus vergangenen Zeiten. \nEine Veranstaltung in Zusamenarbeit mit der Beratungsstelle für Volksmusik des Bezirks Schwaben. \n  \nBeginn: 20:00 UhrEinlass & Gastronomie: 18:30 UhrEintritt: 20\,00 €\, erm. 18\,00 €
URL:https://www.dampfsaeg.de/event/nostalgieball-huerbener-ballorchester/
LOCATION:Dampfsäg\, Westerheimer Str. 10\, Sontheim\, Bayern\, 87776\, Deutschland
CATEGORIES:Konzert
ATTACH;FMTTYPE=image/jpeg:https://www.dampfsaeg.de/wp-content/uploads/2024/09/Nostalgieball@Andreas-Keilholz.jpg
END:VEVENT
END:VCALENDAR