BEGIN:VCALENDAR
VERSION:2.0
PRODID:-//Dampfsäg Sontheim - ECPv6.15.20//NONSGML v1.0//EN
CALSCALE:GREGORIAN
METHOD:PUBLISH
X-ORIGINAL-URL:https://www.dampfsaeg.de
X-WR-CALDESC:Veranstaltungen für Dampfsäg Sontheim
REFRESH-INTERVAL;VALUE=DURATION:PT1H
X-Robots-Tag:noindex
X-PUBLISHED-TTL:PT1H
BEGIN:VTIMEZONE
TZID:Europe/Berlin
BEGIN:DAYLIGHT
TZOFFSETFROM:+0100
TZOFFSETTO:+0200
TZNAME:CEST
DTSTART:20250330T010000
END:DAYLIGHT
BEGIN:STANDARD
TZOFFSETFROM:+0200
TZOFFSETTO:+0100
TZNAME:CET
DTSTART:20251026T010000
END:STANDARD
BEGIN:DAYLIGHT
TZOFFSETFROM:+0100
TZOFFSETTO:+0200
TZNAME:CEST
DTSTART:20260329T010000
END:DAYLIGHT
BEGIN:STANDARD
TZOFFSETFROM:+0200
TZOFFSETTO:+0100
TZNAME:CET
DTSTART:20261025T010000
END:STANDARD
BEGIN:DAYLIGHT
TZOFFSETFROM:+0100
TZOFFSETTO:+0200
TZNAME:CEST
DTSTART:20270328T010000
END:DAYLIGHT
BEGIN:STANDARD
TZOFFSETFROM:+0200
TZOFFSETTO:+0100
TZNAME:CET
DTSTART:20271031T010000
END:STANDARD
END:VTIMEZONE
BEGIN:VEVENT
DTSTART;TZID=Europe/Berlin:20260609T200000
DTEND;TZID=Europe/Berlin:20260609T223000
DTSTAMP:20260421T150757
CREATED:20260421T093425Z
LAST-MODIFIED:20260421T094350Z
UID:2586-1781035200-1781044200@www.dampfsaeg.de
SUMMARY:Was uns verbindet
DESCRIPTION:Französisches Drama über ein unkonventionelles Familienleben\, in der eine 50-jährige Buchhändlerin zur wichtigsten Stütze wird. Ein Geflecht aus Liebe\, Verlust und neuen Beziehungen. \nSandra (Valeria Bruni Tedeschi)\, eine selbstständige Frau in ihren Fünfzigern\, sieht sich plötzlich gezwungen\, ihren Alltag mit ihrem Nachbarn und dessen zwei Kindern zu teilen. Wider Erwartenwächst ihr die ungewöhnliche Gemeinschaft allmählich ans Herz und verändert ihr Leben auf eine Weise\, die sie nie erwartet hätte.Die Welt stürzt ein und muss neu zusammengesetzt werden. Und aus einer zufälligen nachbarschaftlichen Hilfestellung heraus wird Sandra ein Teil des familiären Heilungsprozesses. \nFrankreich\, Belgien 2024\, ab 6 Jahren\, 105 MinutenRegie: Carine TardieuBesetzung: Valeria Bruni Tedeschi\, Pio Marmaï\, Vimala Pons \n  \nFilmbeginn: 20:00 UhrEinlass & Gastronomie: 18:30 UhrEintritt: 7\,00 €\, erm. 6\,00 € \n			\n				\n				\n				\n				\n				  Sie sehen gerade einen Platzhalterinhalt von Standard. Um auf den eigentlichen Inhalt zuzugreifen\, klicken Sie auf die Schaltfläche unten. Bitte beachten Sie\, dass dabei Daten an Drittanbieter weitergegeben werden.   Inhalt entsperren Erforderlichen Service akzeptieren und Inhalte entsperren  Mehr Informationen
URL:https://www.dampfsaeg.de/event/was-uns-verbindet/
LOCATION:Dampfsäg\, Westerheimer Str. 10\, Sontheim\, Bayern\, 87776\, Deutschland
CATEGORIES:Kino
ATTACH;FMTTYPE=image/jpeg:https://www.dampfsaeg.de/wp-content/uploads/2026/04/was_uns_verbindet.jpg
ORGANIZER;CN="Dampfs%C3%A4g Sontheim":MAILTO:info@dampfsaeg.de
END:VEVENT
BEGIN:VEVENT
DTSTART;TZID=Europe/Berlin:20260614T100000
DTEND;TZID=Europe/Berlin:20260614T150000
DTSTAMP:20260421T150758
CREATED:20240501T201616Z
LAST-MODIFIED:20260120T175101Z
UID:1142-1781431200-1781449200@www.dampfsaeg.de
SUMMARY:Flohmarkt
DESCRIPTION:Sechsmal im Jahr findet in der Dampfsäg ein Flohmarkt statt.Die drei Hallen und das große Außengelände bieten Platz für allerlei Nützliches\, Schönes\, und Seltenes. \nMit Gastronomie\, Biergarten und Kuchenverkauf. \nFür einen Platz in der Halle ist eine Anmeldung erforderlich.Anmeldung Mo – Fr 9 – 12 Uhr unter: FlohmarktTel.: 08336 / 226 oder info@dampfsaeg.de.Für einen Platz im Außengelände ist keine Reservierung notwendig / möglich. \nVerkauf 10 Uhr bis 15 Uhr \nWeitere Infos unter Flohmarkt
URL:https://www.dampfsaeg.de/event/1142/
LOCATION:Dampfsäg\, Westerheimer Str. 10\, Sontheim\, Bayern\, 87776\, Deutschland
CATEGORIES:Flohmarkt
ATTACH;FMTTYPE=image/jpeg:https://www.dampfsaeg.de/wp-content/uploads/2024/05/IMGP2778.jpg
END:VEVENT
BEGIN:VEVENT
DTSTART;TZID=Europe/Berlin:20260623T200000
DTEND;TZID=Europe/Berlin:20260623T223000
DTSTAMP:20260421T150758
CREATED:20260421T095031Z
LAST-MODIFIED:20260421T095035Z
UID:2592-1782244800-1782253800@www.dampfsaeg.de
SUMMARY:Ach\, diese Lücke\, diese entsetzliche Lücke
DESCRIPTION:Verfilmung des gleichnamigen Romans von Joachim Meyerhoff. \nJoachim (Bruno Alexander) wird überraschend an der renommierten Schauspielschule in München aufgenommen und zieht in die herrschaftliche Villa seiner Großeltern ein. Dort erlebt er einen Alltag voller kurioser Rituale\, geprägt von der charmanten Exzentrik und den alkoholgetränkten Gewohnheiten seiner Großmutter (Senta Berger) und seines Großvaters (Michael Wittenborn). Gleichzeitig taucht Joachim in die intensive und oft skurrile Welt des Theaters ein\, wo Leidenschaft\, Konkurrenz und Selbstdarstellung den Ton angeben. Zwischen den Bühnenproben und den Eigenheiten des Familienlebens gerät Joachim in einen Strudel aus Selbstzweifeln\, skurrilen Begegnungen und inspirierenden Momenten. Auf seinem Weg versucht er\, sich nicht nur in der Theaterwelt zu behaupten\, sondern auch herauszufinden\, wer er wirklich ist. \nDeutschland 2025\, ab 6 Jahren\, 137 MinutenRegie: Simon VerhoevenBesetzung: Bruno Alexander\, Senta Berger\, Michael Wittenborn \n  \nFilmbeginn: 20:00 UhrEinlass & Gastronomie: 18:30 UhrEintritt: 7\,00 €\, erm. 6\,00 € \n			\n				\n				\n				\n				\n				  Sie sehen gerade einen Platzhalterinhalt von Standard. Um auf den eigentlichen Inhalt zuzugreifen\, klicken Sie auf die Schaltfläche unten. Bitte beachten Sie\, dass dabei Daten an Drittanbieter weitergegeben werden.   Inhalt entsperren Erforderlichen Service akzeptieren und Inhalte entsperren  Mehr Informationen
URL:https://www.dampfsaeg.de/event/ach-diese-luecke-diese-entsetzliche-luecke/
LOCATION:Dampfsäg\, Westerheimer Str. 10\, Sontheim\, Bayern\, 87776\, Deutschland
CATEGORIES:Kino
ATTACH;FMTTYPE=image/jpeg:https://www.dampfsaeg.de/wp-content/uploads/2026/04/luecke.jpg
ORGANIZER;CN="Dampfs%C3%A4g Sontheim":MAILTO:info@dampfsaeg.de
END:VEVENT
BEGIN:VEVENT
DTSTART;TZID=Europe/Berlin:20260630T200000
DTEND;TZID=Europe/Berlin:20260630T223000
DTSTAMP:20260421T150758
CREATED:20260421T095655Z
LAST-MODIFIED:20260421T095700Z
UID:2598-1782849600-1782858600@www.dampfsaeg.de
SUMMARY:Extrawurst
DESCRIPTION:In einem Tennisclub irgendwo in der deutschen Provinz wird das Sommerfest geplant\, und unter Heriberts strenger Leitung stehen die Vorbereitungen im Mittelpunkt. Als vorgeschlagen wird\, für Erol\, das einzige muslimische Clubmitglied\, einen separaten Grill zu organisieren\, brechen unerwartete Spannungen auf. Was als scheinbar harmlose Diskussion beginnt\, weitet sich schnell zu einer Debatte über gesellschaftliche und persönliche Konflikte aus. Währenddie Gemüter immer höher kochen\, steht der Verein schließlich kurz vor dem Zerfall. \nDeutschland 2026\, ab 12 Jahren\, 98 MinutenRegie: Marcus H. RosenmüllerBesetzung: Hape Kerkeling\, Christoph Maria Herbst\, Fahri Yardım \n  \nFilmbeginn: 20:00 UhrEinlass & Gastronomie: 18:30 UhrEintritt: 7\,00 €\, erm. 6\,00 € \n			\n				\n				\n				\n				\n				  Sie sehen gerade einen Platzhalterinhalt von Standard. Um auf den eigentlichen Inhalt zuzugreifen\, klicken Sie auf die Schaltfläche unten. Bitte beachten Sie\, dass dabei Daten an Drittanbieter weitergegeben werden.   Inhalt entsperren Erforderlichen Service akzeptieren und Inhalte entsperren  Mehr Informationen
URL:https://www.dampfsaeg.de/event/extrawurst/
LOCATION:Dampfsäg\, Westerheimer Str. 10\, Sontheim\, Bayern\, 87776\, Deutschland
CATEGORIES:Kino
ATTACH;FMTTYPE=image/jpeg:https://www.dampfsaeg.de/wp-content/uploads/2026/04/extrawurst.jpg
ORGANIZER;CN="Dampfs%C3%A4g Sontheim":MAILTO:info@dampfsaeg.de
END:VEVENT
BEGIN:VEVENT
DTSTART;TZID=Europe/Berlin:20260707T200000
DTEND;TZID=Europe/Berlin:20260707T223000
DTSTAMP:20260421T150758
CREATED:20260421T103658Z
LAST-MODIFIED:20260421T103702Z
UID:2603-1783454400-1783463400@www.dampfsaeg.de
SUMMARY:Calle Málaga - Ein Zuhause in Tanger
DESCRIPTION:María Ángeles (Carmen Maura)\, 79 Jahre alt\, lebt seit Jahrzehnten im spanischen Viertel von Tanger. Ihre Wohnung in der Calle Málaga\, gefüllt mit Erinnerungen\, Blumen und alten Möbelstücken\, ist für sie weit mehr als ein Zuhause. Vom Balkon aus verfolgt sie das geschäftige Leben der Straßen\, in denen Vergangenheit und Gegenwart ineinanderfließen. Als ihre TochterClara (Marta Etura) jedoch den Entschluss fasst\, die Wohnung zu verkaufen\, steht María Ángeles vor einer entscheidenden Veränderung. Ein Umzug in ein Seniorenheim kommt für sie nicht infrage. Mit Einfallsreichtum und unbeirrbarem Willen setzt sie alles daran\, ihre vier Wände zu bewahren. Unerwartet eröffnet dieser Widerstand neue Begegnungen\, weckt Lebensfreude und bringt eine Liebe zurück\, die längst verloren schien. \nFrankreich\, Spanien\, Marokko\, Deutschland\, Belgien 2025\, ab 12 Jahren\, 116 MinutenRegie: Maryam TouzaniBesetzung: Carmen Maura\, Marta Etura\, Ahmed Boulane \n  \nFilmbeginn: 20:00 UhrEinlass & Gastronomie: 18:30 UhrEintritt: 7\,00 €\, erm. 6\,00 € \n			\n				\n				\n				\n				\n				  Sie sehen gerade einen Platzhalterinhalt von Standard. Um auf den eigentlichen Inhalt zuzugreifen\, klicken Sie auf die Schaltfläche unten. Bitte beachten Sie\, dass dabei Daten an Drittanbieter weitergegeben werden.   Inhalt entsperren Erforderlichen Service akzeptieren und Inhalte entsperren  Mehr Informationen
URL:https://www.dampfsaeg.de/event/calle-malaga-ein-zuhause-in-tanger/
LOCATION:Dampfsäg\, Westerheimer Str. 10\, Sontheim\, Bayern\, 87776\, Deutschland
CATEGORIES:Kino
ATTACH;FMTTYPE=image/jpeg:https://www.dampfsaeg.de/wp-content/uploads/2026/04/calle-m.jpg
ORGANIZER;CN="Dampfs%C3%A4g Sontheim":MAILTO:info@dampfsaeg.de
END:VEVENT
BEGIN:VEVENT
DTSTART;TZID=Europe/Berlin:20260712T100000
DTEND;TZID=Europe/Berlin:20260712T150000
DTSTAMP:20260421T150758
CREATED:20240501T201904Z
LAST-MODIFIED:20260120T174909Z
UID:1155-1783850400-1783868400@www.dampfsaeg.de
SUMMARY:Flohmarkt
DESCRIPTION:Sechsmal im Jahr findet in der Dampfsäg ein Flohmarkt statt.Die drei Hallen und das große Außengelände bieten Platz für allerlei Nützliches\, Schönes\, und Seltenes. \nMit Gastronomie\, Biergarten und Kuchenverkauf. \nFür einen Platz in der Halle ist eine Anmeldung erforderlich.Anmeldung Mo – Fr 9 – 12 Uhr unter: FlohmarktTel.: 08336 / 226 oder info@dampfsaeg.de.Für einen Platz im Außengelände ist keine Reservierung notwendig / möglich. \nVerkauf 10 Uhr bis 15 Uhr \nWeitere Infos unter Flohmarkt
URL:https://www.dampfsaeg.de/event/flohmarkt/
LOCATION:Dampfsäg\, Westerheimer Str. 10\, Sontheim\, Bayern\, 87776\, Deutschland
CATEGORIES:Flohmarkt
ATTACH;FMTTYPE=image/jpeg:https://www.dampfsaeg.de/wp-content/uploads/2024/05/B150088.jpg
END:VEVENT
BEGIN:VEVENT
DTSTART;TZID=Europe/Berlin:20260721T200000
DTEND;TZID=Europe/Berlin:20260721T223000
DTSTAMP:20260421T150758
CREATED:20260421T113354Z
LAST-MODIFIED:20260421T113410Z
UID:2608-1784664000-1784673000@www.dampfsaeg.de
SUMMARY:Der Medicus II
DESCRIPTION:Fortsetzung der beliebten Romanreihe von Noah Gordon über den christlichen Arzt\, der von Juden ausgebildet wurde\, und nun in seine alte Heimat London zurückkehrt.Im 11. Jahrhundert flieht der Medicus Rob Cole (Tom Payne) aus der persischen Stadt Isfahan und kehrt zusammen mit seinen Weggefährten zurück in sein Heimatland England. Dort landet er schließlich in London. Als er dort seine erlernten medizinischen Fähigkeiten einsetzen und sein Wissen zum Wohle aller weitergeben möchte\, stößt das vor allem bei den mächtigen Eliten auf großen Widerstand. Schließlich bittet ihn jedoch der englische König\, seine vom Wahnsinn besessene Tochter zu heilen\, was für Rob der Anstoß ist\, sich mit Seelenheilungen und somit dermenschlichen Psyche auseinanderzusetzen. Doch nur weil das der Wille des Königs ist\, heißt das noch lange nicht\, dass Rob freie Bahn hat. Im Königshaus werden mal wieder Intrigen gesponnen\, in die auch der Medicus und seine argwöhnisch beäugte Arbeit mit seinen Patienten gerät. \nUSA\, Deutschland 2025\, ab 12 Jahren\, 143 MinutenRegie: Philipp StölzlBesetzung: Tom Payne\, Emily Cox\, Aidan Gillen \n  \nFilmbeginn: 20:00 UhrEinlass & Gastronomie: 18:30 UhrEintritt: 7\,00 €\, erm. 6\,00 € \n			\n				\n				\n				\n				\n				  Sie sehen gerade einen Platzhalterinhalt von Standard. Um auf den eigentlichen Inhalt zuzugreifen\, klicken Sie auf die Schaltfläche unten. Bitte beachten Sie\, dass dabei Daten an Drittanbieter weitergegeben werden.   Inhalt entsperren Erforderlichen Service akzeptieren und Inhalte entsperren  Mehr Informationen
URL:https://www.dampfsaeg.de/event/der-medicus-ii/
LOCATION:Dampfsäg\, Westerheimer Str. 10\, Sontheim\, Bayern\, 87776\, Deutschland
CATEGORIES:Kino
ATTACH;FMTTYPE=image/jpeg:https://www.dampfsaeg.de/wp-content/uploads/2026/04/MEDICUSII_A4-420x594-1.jpg
ORGANIZER;CN="Dampfs%C3%A4g Sontheim":MAILTO:info@dampfsaeg.de
END:VEVENT
BEGIN:VEVENT
DTSTART;TZID=Europe/Berlin:20261004T100000
DTEND;TZID=Europe/Berlin:20261004T150000
DTSTAMP:20260421T150758
CREATED:20240501T202053Z
LAST-MODIFIED:20260120T174622Z
UID:1158-1791108000-1791126000@www.dampfsaeg.de
SUMMARY:Flohmarkt
DESCRIPTION:Sechsmal im Jahr findet in der Dampfsäg ein Flohmarkt statt.Die drei Hallen und das große Außengelände bieten Platz für allerlei Nützliches\, Schönes\, und Seltenes. \nMit Gastronomie\, Biergarten und Kuchenverkauf. \nFür einen Platz in der Halle ist eine Anmeldung erforderlich.Anmeldung Mo – Fr 9 – 12 Uhr unter: FlohmarktTel.: 08336 / 226 oder info@dampfsaeg.de.Für einen Platz im Außengelände ist keine Reservierung notwendig / möglich. \nVerkauf 10 Uhr bis 15 Uhr \nWeitere Infos unter Flohmarkt
URL:https://www.dampfsaeg.de/event/flohmarkt-2/
LOCATION:Dampfsäg\, Westerheimer Str. 10\, Sontheim\, Bayern\, 87776\, Deutschland
CATEGORIES:Flohmarkt
ATTACH;FMTTYPE=image/jpeg:https://www.dampfsaeg.de/wp-content/uploads/2024/05/B150080.jpg
END:VEVENT
BEGIN:VEVENT
DTSTART;TZID=Europe/Berlin:20261122T100000
DTEND;TZID=Europe/Berlin:20261122T150000
DTSTAMP:20260421T150758
CREATED:20240501T202346Z
LAST-MODIFIED:20260120T174249Z
UID:1161-1795341600-1795359600@www.dampfsaeg.de
SUMMARY:Flohmarkt
DESCRIPTION:Sechsmal im Jahr findet in der Dampfsäg ein Flohmarkt statt.Die drei Hallen und das große Außengelände bieten Platz für allerlei Nützliches\, Schönes\, und Seltenes. \nMit Gastronomie\, Biergarten und Kuchenverkauf. \nFür einen Platz in der Halle ist eine Anmeldung erforderlich.Anmeldung Mo – Fr 9 – 12 Uhr unter: FlohmarktTel.: 08336 / 226 oder info@dampfsaeg.de.Für einen Platz im Außengelände ist keine Reservierung notwendig / möglich. \nVerkauf 10 Uhr bis 15 Uhr \nWeitere Infos unter Flohmarkt
URL:https://www.dampfsaeg.de/event/flohmarkt-3/
LOCATION:Dampfsäg\, Westerheimer Str. 10\, Sontheim\, Bayern\, 87776\, Deutschland
CATEGORIES:Flohmarkt
ATTACH;FMTTYPE=image/jpeg:https://www.dampfsaeg.de/wp-content/uploads/2024/05/B150028.jpg
END:VEVENT
END:VCALENDAR