BEGIN:VCALENDAR
VERSION:2.0
PRODID:-//Dampfsäg Sontheim - ECPv6.15.20//NONSGML v1.0//EN
CALSCALE:GREGORIAN
METHOD:PUBLISH
X-ORIGINAL-URL:https://www.dampfsaeg.de
X-WR-CALDESC:Veranstaltungen für Dampfsäg Sontheim
REFRESH-INTERVAL;VALUE=DURATION:PT1H
X-Robots-Tag:noindex
X-PUBLISHED-TTL:PT1H
BEGIN:VTIMEZONE
TZID:Europe/Berlin
BEGIN:DAYLIGHT
TZOFFSETFROM:+0100
TZOFFSETTO:+0200
TZNAME:CEST
DTSTART:20230326T010000
END:DAYLIGHT
BEGIN:STANDARD
TZOFFSETFROM:+0200
TZOFFSETTO:+0100
TZNAME:CET
DTSTART:20231029T010000
END:STANDARD
BEGIN:DAYLIGHT
TZOFFSETFROM:+0100
TZOFFSETTO:+0200
TZNAME:CEST
DTSTART:20240331T010000
END:DAYLIGHT
BEGIN:STANDARD
TZOFFSETFROM:+0200
TZOFFSETTO:+0100
TZNAME:CET
DTSTART:20241027T010000
END:STANDARD
BEGIN:DAYLIGHT
TZOFFSETFROM:+0100
TZOFFSETTO:+0200
TZNAME:CEST
DTSTART:20250330T010000
END:DAYLIGHT
BEGIN:STANDARD
TZOFFSETFROM:+0200
TZOFFSETTO:+0100
TZNAME:CET
DTSTART:20251026T010000
END:STANDARD
END:VTIMEZONE
BEGIN:VEVENT
DTSTART;TZID=Europe/Berlin:20240606T160000
DTEND;TZID=Europe/Berlin:20240606T180000
DTSTAMP:20260424T141047
CREATED:20240501T191351Z
LAST-MODIFIED:20240501T191355Z
UID:1111-1717689600-1717696800@www.dampfsaeg.de
SUMMARY:Kasperle und Seppel auf Spurensuche
DESCRIPTION:Kasperletheater \nAlola\, die Kasperlebühne der freien Spielstube Immenstadt spielt während des Wochenmarkts ihr neuestes Stück. \nVorführungen um 16:00 Uhr und 17:00 UhrEintritt: 5\,00 €
URL:https://www.dampfsaeg.de/event/kasperle-und-seppel-auf-spurensuche/
LOCATION:Dampfsäg\, Westerheimer Str. 10\, Sontheim\, Bayern\, 87776\, Deutschland
CATEGORIES:Kinder
ATTACH;FMTTYPE=image/jpeg:https://www.dampfsaeg.de/wp-content/uploads/2024/04/P4280033.jpg
END:VEVENT
BEGIN:VEVENT
DTSTART;TZID=Europe/Berlin:20240618T200000
DTEND;TZID=Europe/Berlin:20240618T220000
DTSTAMP:20260424T141047
CREATED:20240430T140947Z
LAST-MODIFIED:20240430T192415Z
UID:1044-1718740800-1718748000@www.dampfsaeg.de
SUMMARY:Im Land der Wölfe
DESCRIPTION:Im Rahmen der 3. Unterallgäuer Umwelt-Filmtage \n  \n			\n				\n				\n				\n				\n				Lange Zeit gab es sie in Westeuropa gar nicht mehr\, doch jetzt sie sind zurück: Wölfe. \nIn Deutschland haben sie einige Gebiete zurückerobert. Aus Naturschutzsicht ein immenser Erfolg. Doch nicht jeder freut sich über die Rückkehr des grauen Räubers. Daher stellt sich die Frage: Wie kann ein harmonisches Zusammenleben von Mensch und Tier gesichert werden? Und wer muss eigentlich vor wem Angst haben? \nIn seinem Dokumentarfilm beleuchtet Ralf Bücheler eines der kontroversen Themen der Landwirtschaft. Er nimmt sich der unterschiedlichen Positionen bezüglich des Themas an und bereitet diese differenziert auf. Dabei gelingt es ihm\, die Komplexität der aktuellen Situation greifbarer zu machen. \nZu Gast an diesem Filmabend: Der Regisseur Ralf Bücheler mit Filmgespräch. \nDeutschland 2023\, ab 12 Jahren\,106 Minuten\, DokumentarfilmRegie: Ralf Bücheler \nFilmbeginn: 20:00 UhrEinlass & Gastronomie: 18:30 UhrEintritt: 7\,00 €\, erm. 6\,00 € \n			\n				\n				\n				\n				\n				  Sie sehen gerade einen Platzhalterinhalt von Standard. Um auf den eigentlichen Inhalt zuzugreifen\, klicken Sie auf die Schaltfläche unten. Bitte beachten Sie\, dass dabei Daten an Drittanbieter weitergegeben werden.   Inhalt entsperren Erforderlichen Service akzeptieren und Inhalte entsperren  Mehr Informationen
URL:https://www.dampfsaeg.de/event/im-land-der-woelfe/
LOCATION:Dampfsäg\, Westerheimer Str. 10\, Sontheim\, Bayern\, 87776\, Deutschland
CATEGORIES:Kino
ATTACH;FMTTYPE=image/jpeg:https://www.dampfsaeg.de/wp-content/uploads/2024/04/ILDW-Plakat_A4_WEB-scaled-1.jpg
ORGANIZER;CN="Dampfs%C3%A4g Sontheim":MAILTO:info@dampfsaeg.de
END:VEVENT
BEGIN:VEVENT
DTSTART;TZID=Europe/Berlin:20240625T200000
DTEND;TZID=Europe/Berlin:20240625T223000
DTSTAMP:20260424T141047
CREATED:20240501T192550Z
LAST-MODIFIED:20240501T192817Z
UID:1119-1719345600-1719354600@www.dampfsaeg.de
SUMMARY:Am Fluß der Zeit
DESCRIPTION:Der Vater des Hirten Clemens riet ihm an der Günz entlangzugehen. Denn da wird er auf Menschen treffen\, die ihrem Handwerk nachgehen…Dieser Satz war der Grundgedanke dieses Filmes. Die Geschichte des Hirten Clemens\, der im Hundsmoor bei Hawangen die Kühe hütete und auf der Suche nach einer Arbeit im Winter auf Wanderschaft ging\, verpackte das Filmteam mit Martin Link\, Emrah Atasoy und Stefan Hämmerle bildgewaltig in ihrer Dokumentation. \nDer natürliche stetig veränderliche Bachverlauf der westlichen Günz lässt sich in diesem Naturschutzgebiet sehr gut beobachten. Hier darf die Günz noch arbeiten\, so drückte dies Peter Guggenberger-Waibel von der Stiftung Kultur Landschaft Günztal in seiner Ausführung aus.Ein Blick in die Sägereien von Westerheim und Günz lassen uns Einblick gewähren wie damals gearbeitet wurde.Ein Hufschmied\, der nochmals die Esse befeuerte und die Pferde beschlug sowie eine Holzrückung mit den Kaltblütern ist ebenso zu bestaunen wie der Blick in die Kirchtürme von Westerheim undGünz. Einer Sage nach bestünde der Kirchturm von Günz von den Burgställen vom Lehberg. Eine spannende Wanderung am „Fluß der Zeit“ nimmt seinen Lauf…. \nLänge: 130 Min \nFilmbeginn: 20:00 UhrEinlass & Gastronomie: 18:30 UhrEintritt: 10\,00 € \n			\n				\n				\n				\n				\n				  Sie sehen gerade einen Platzhalterinhalt von Standard. Um auf den eigentlichen Inhalt zuzugreifen\, klicken Sie auf die Schaltfläche unten. Bitte beachten Sie\, dass dabei Daten an Drittanbieter weitergegeben werden.   Inhalt entsperren Erforderlichen Service akzeptieren und Inhalte entsperren  Mehr Informationen
URL:https://www.dampfsaeg.de/event/am-fluss-der-zeit/
LOCATION:Dampfsäg\, Westerheimer Str. 10\, Sontheim\, Bayern\, 87776\, Deutschland
CATEGORIES:Kino
ATTACH;FMTTYPE=image/jpeg:https://www.dampfsaeg.de/wp-content/uploads/2024/04/Plakat_AmFlussderZeit_HisStory_0821.jpg
END:VEVENT
BEGIN:VEVENT
DTSTART;TZID=Europe/Berlin:20240628T200000
DTEND;TZID=Europe/Berlin:20240628T223000
DTSTAMP:20260424T141047
CREATED:20240501T193615Z
LAST-MODIFIED:20240501T193620Z
UID:1126-1719604800-1719613800@www.dampfsaeg.de
SUMMARY:Quadro Nuevo
DESCRIPTION:Die Jugendfreunde Mulo Francel und Didi Lowka gründeten 1996 das Ensemble Quadro Nuevo. Unzählige Orte\, von Helsinki bis Hong Kong\, vom Kaukasus bis in die New Yorker Carnegie Halle\, haben die abenteuerlustigen Künstler seither bereist. \nDurch ihre verwegene Musizierweise holten sie sich zweimal den ECHO\, eine Goldene Schallplatte\, den Preis der Deutschen Schallplattenkritik und mehrere Jazz Awards.Mit dem extravagant-spielwitzigen Akkordeonisten Andreas Hinterseher und dem durch verschwenderischen Ideenreichtum glänzenden Pianisten Chris Gall leben sie ihre Musik im Hier und Jetzt. \nSpäter verbrachte man Zeiten in Buenos Aires und Rio de Janeiro\, probtetagelang in der flirrenden Mittagshitze\, schwärmte abends aus\, stürzte sich kopfüber in die Szene\, begleitete Tänzer\, berauschte sich an schwerem Wein\, Caipirinha und frischer Brazilian Music direkt von der Quelle.Heraus kam das neue Album HAPPY Deluxe.„Die Fröhlichkeit und Freundlichkeit vieler Menschen in Brasilien faszinierte uns. Sie färbte unsere Lieder.“ So entstand auch der Titel des Albums. Uns ist dabei durchaus bewusst\, dass die alltägliche Lebenswelt vieler Menschen alles andere als unbeschwert ist. Trotzdem – oder gerade deshalb – darf auch die Musik eine positive Gegenwelt anbieten.“ \nKonzertbeginn: 20:00 UhrEinlass & Gastronomie: 18:30 UhrEintritt: 29\,00 €\, erm. 27\,00 €
URL:https://www.dampfsaeg.de/event/quadro-nuevo/
LOCATION:Dampfsäg\, Westerheimer Str. 10\, Sontheim\, Bayern\, 87776\, Deutschland
CATEGORIES:Konzert
ATTACH;FMTTYPE=image/jpeg:https://www.dampfsaeg.de/wp-content/uploads/2024/04/pressefoto-quadronuevo-happydeluxe-cg-07.jpg
END:VEVENT
END:VCALENDAR