BEGIN:VCALENDAR
VERSION:2.0
PRODID:-//Dampfsäg Sontheim - ECPv6.15.20//NONSGML v1.0//EN
CALSCALE:GREGORIAN
METHOD:PUBLISH
X-WR-CALNAME:Dampfsäg Sontheim
X-ORIGINAL-URL:https://www.dampfsaeg.de
X-WR-CALDESC:Veranstaltungen für Dampfsäg Sontheim
REFRESH-INTERVAL;VALUE=DURATION:PT1H
X-Robots-Tag:noindex
X-PUBLISHED-TTL:PT1H
BEGIN:VTIMEZONE
TZID:Europe/Berlin
BEGIN:DAYLIGHT
TZOFFSETFROM:+0100
TZOFFSETTO:+0200
TZNAME:CEST
DTSTART:20230326T010000
END:DAYLIGHT
BEGIN:STANDARD
TZOFFSETFROM:+0200
TZOFFSETTO:+0100
TZNAME:CET
DTSTART:20231029T010000
END:STANDARD
BEGIN:DAYLIGHT
TZOFFSETFROM:+0100
TZOFFSETTO:+0200
TZNAME:CEST
DTSTART:20240331T010000
END:DAYLIGHT
BEGIN:STANDARD
TZOFFSETFROM:+0200
TZOFFSETTO:+0100
TZNAME:CET
DTSTART:20241027T010000
END:STANDARD
BEGIN:DAYLIGHT
TZOFFSETFROM:+0100
TZOFFSETTO:+0200
TZNAME:CEST
DTSTART:20250330T010000
END:DAYLIGHT
BEGIN:STANDARD
TZOFFSETFROM:+0200
TZOFFSETTO:+0100
TZNAME:CET
DTSTART:20251026T010000
END:STANDARD
END:VTIMEZONE
BEGIN:VEVENT
DTSTART;TZID=Europe/Berlin:20240910T200000
DTEND;TZID=Europe/Berlin:20240910T200000
DTSTAMP:20260421T113708
CREATED:20240902T143535Z
LAST-MODIFIED:20240902T153356Z
UID:1402-1725998400-1725998400@www.dampfsaeg.de
SUMMARY:Arthur der Große
DESCRIPTION:.Im Laufe von zehn Tagen und einer Strecke von 700 Kilometer zu Fuß\, auf dem Mountain Bike und auf dem Kajak entsteht zwischen dem Profi-Abenteurer Michael Light (Mark Wahlberg) und einem rauflustigen Straßenhund Arthur ein unzertrennliches Band. \nNoch bevor das Rennen beginnt\, macht Michael Bekanntschaft mit einem streunenden Hund\, dem er Fleischbällchen aus der Dose anbietet. Der Hund weicht fortan nicht mehr von Michaels Seite und bestreitet das lange Rennen gemeinsam mit dem Team. Obwohl der Hund dringend eine tierärztliche Behandlung benötigt\, ist der Vierbeiner gewillt Michael und seinem Team bei den gestellten Aufgaben zu helfen. \nUSA 2024\, ab 6 Jahren\, 108 MinutenAbenteuerfilm nach wahren BegebenheitenRegie: Simon Cellan Jones. Besetzung: Mark Wahlberg\, Nathalie Emmanuel\, Simu Liu \nFilmbeginn: 20:00 UhrEinlass & Gastronomie: 18:30 UhrEintritt: 7\,00 €\, erm. 6\,00 € \n			\n				\n				\n				\n				\n				  Sie sehen gerade einen Platzhalterinhalt von Standard. Um auf den eigentlichen Inhalt zuzugreifen\, klicken Sie auf die Schaltfläche unten. Bitte beachten Sie\, dass dabei Daten an Drittanbieter weitergegeben werden.   Inhalt entsperren Erforderlichen Service akzeptieren und Inhalte entsperren  Mehr Informationen \n				\n			\n			\n				\n				\n				\n				\n			\n				\n				\n				\n				\n				\n				\n				Karten für diesen  Film kaufen
URL:https://www.dampfsaeg.de/event/arthur-der-grosse/
LOCATION:Dampfsäg\, Westerheimer Str. 10\, Sontheim\, Bayern\, 87776\, Deutschland
CATEGORIES:Kino
ATTACH;FMTTYPE=image/jpeg:https://www.dampfsaeg.de/wp-content/uploads/2024/09/ArthurDerGrosse-A4-RGB1.jpg
ORGANIZER;CN="Dampfs%C3%A4g Sontheim":MAILTO:info@dampfsaeg.de
END:VEVENT
BEGIN:VEVENT
DTSTART;TZID=Europe/Berlin:20240924T200000
DTEND;TZID=Europe/Berlin:20240924T220000
DTSTAMP:20260421T113708
CREATED:20240902T145336Z
LAST-MODIFIED:20240902T145340Z
UID:1419-1727208000-1727215200@www.dampfsaeg.de
SUMMARY:Rose - Eine unvergessliche Reise nach Paris
DESCRIPTION:In Zusammenarbeit mit DaCapo e.V. Gemeinnütziger Verein zur Förderung psychisch kranker Menschen. \n\n  \nInger sorgt für eine unvergessliche Busreise nach Paris\, denn Inger ist an Schizophrenie erkrankt. Nach außen zeigt sich das vor allem durch eine sehr direkte Art und die kommt nicht bei allen Mitreisenden im Bus sonderlich gut an. Inger werden Vorurteile an den Kopf geworfen\, niemand scheint Verständnis für sie und ihr Verhalten zu haben. Ehe sie sich versehen\, geraten auch noch Ingers Schwester Ellen und deren Ehemann Vagn zwischen die Fronten. Dabei liegt es eigentlich auf der Hand\, dass so „normal“ niemand an Board ist. \nDänemark 2022\, ab 12 Jahren\, 106 MinutenRegie: Niels Arden OplevBesetzung: Sofie Gråbøl\, Lene Maria Christensen\, Anders W. Berthelsen \nFilmbeginn: 20:00 UhrEinlass & Gastronomie: 18:30 UhrEintritt: 7\,00 €\, erm. 6\,00 € \n			\n				\n				\n				\n				\n				  Sie sehen gerade einen Platzhalterinhalt von Standard. Um auf den eigentlichen Inhalt zuzugreifen\, klicken Sie auf die Schaltfläche unten. Bitte beachten Sie\, dass dabei Daten an Drittanbieter weitergegeben werden.   Inhalt entsperren Erforderlichen Service akzeptieren und Inhalte entsperren  Mehr Informationen \n				\n			\n			\n				\n				\n				\n				\n			\n				\n				\n				\n				\n				\n				\n				Karten für diesen Film kaufen
URL:https://www.dampfsaeg.de/event/rose-eine-unvergessliche-reise-nach-paris/
LOCATION:Dampfsäg\, Westerheimer Str. 10\, Sontheim\, Bayern\, 87776\, Deutschland
CATEGORIES:Kino
ATTACH;FMTTYPE=image/jpeg:https://www.dampfsaeg.de/wp-content/uploads/2024/09/rose-eine-unvergessliche-reise-nach-paris-poster-ee967.jpg
ORGANIZER;CN="Dampfs%C3%A4g Sontheim":MAILTO:info@dampfsaeg.de
END:VEVENT
BEGIN:VEVENT
DTSTART;TZID=Europe/Berlin:20240927T200000
DTEND;TZID=Europe/Berlin:20240927T230000
DTSTAMP:20260421T113708
CREATED:20240819T130441Z
LAST-MODIFIED:20240819T130445Z
UID:1369-1727467200-1727478000@www.dampfsaeg.de
SUMMARY:Revelling Crooks
DESCRIPTION:Seit mittlerweile 30 Jahren sind die Revelling Crooks unterwegs\, um rasant schnelle Tanzmusik unter´s Volk zu bringen. Speedfolk made in Augsburg – Oberhausen ist dabei Garant für brodelnde Clubs und wilden Tanz – auf der Bühne und den Tanzböden der Republik. \nTreibender Rhythmus und gnadenlose Freude am Musizieren springen über und lassen niemanden stillstehen. Das legendäre Mashup aus Balkan Klezmer Punk\, Irish Folk Polka\, französischem Straßenchanson\, italienischen Partisanenliedern mit einem guten Schuss Ska und Rock’n’Roll bringt die Meute zum Ausrasten und jeden Saal zum Kochen.Vergisst die Welt und tanzt Dich glücklich! \nBeginn: 20:00 UhrEinlass & Gastronomie: 18:30 UhrEintritt: 20\,00 €\, erm. 18\,00 €
URL:https://www.dampfsaeg.de/event/revelling-crooks/
LOCATION:Dampfsäg\, Westerheimer Str. 10\, Sontheim\, Bayern\, 87776\, Deutschland
CATEGORIES:Konzert
ATTACH;FMTTYPE=image/jpeg:https://www.dampfsaeg.de/wp-content/uploads/2024/08/revelling_Crooks_©nikkymaier.jpg
END:VEVENT
END:VCALENDAR